Workbook

Sheet 特休計算表
A1: 員工編號 | B1: 姓名 | C1: 到職日 | D1: 年資(年) | E1: 年資(月) | F1: 總滿月數 | G1: 法定特休 | H1: 已休天數 | I1: 剩餘天數
A2: EMP001 | B2: 陳怡君 | C2: 42134 | D2: =IFERROR(DATEDIF(C2,設定!$B$1,"Y"),0) | E2: =IFERROR(DATEDIF(C2,設定!$B$1,"YM"),0) | F2: =IFERROR(DATEDIF(C2,設定!$B$1,"M"),0) | G2: =VLOOKUP(F2,設定!$D$2:$E$22,2,TRUE) | H2: 10 | I2: =G2-H2
A3: EMP002 | B3: 林建宏 | C3: 43405 | D3: =IFERROR(DATEDIF(C3,設定!$B$1,"Y"),0) | E3: =IFERROR(DATEDIF(C3,設定!$B$1,"YM"),0) | F3: =IFERROR(DATEDIF(C3,設定!$B$1,"M"),0) | G3: =VLOOKUP(F3,設定!$D$2:$E$22,2,TRUE) | H3: 15 | I3: =G3-H3
A4: EMP003 | B4: 張雅婷 | C4: 44392 | D4: =IFERROR(DATEDIF(C4,設定!$B$1,"Y"),0) | E4: =IFERROR(DATEDIF(C4,設定!$B$1,"YM"),0) | F4: =IFERROR(DATEDIF(C4,設定!$B$1,"M"),0) | G4: =VLOOKUP(F4,設定!$D$2:$E$22,2,TRUE) | H4: 5 | I4: =G4-H4
A5: EMP004 | B5: 王小明 | C5: 44986 | D5: =IFERROR(DATEDIF(C5,設定!$B$1,"Y"),0) | E5: =IFERROR(DATEDIF(C5,設定!$B$1,"YM"),0) | F5: =IFERROR(DATEDIF(C5,設定!$B$1,"M"),0) | G5: =VLOOKUP(F5,設定!$D$2:$E$22,2,TRUE) | H5: 8 | I5: =G5-H5
A6: EMP005 | B6: 李家豪 | C6: 45340 | D6: =IFERROR(DATEDIF(C6,設定!$B$1,"Y"),0) | E6: =IFERROR(DATEDIF(C6,設定!$B$1,"YM"),0) | F6: =IFERROR(DATEDIF(C6,設定!$B$1,"M"),0) | G6: =VLOOKUP(F6,設定!$D$2:$E$22,2,TRUE) | H6: 2 | I6: =G6-H6
A7: EMP006 | B7: 吳宗翰 | C7: 45992 | D7: =IFERROR(DATEDIF(C7,設定!$B$1,"Y"),0) | E7: =IFERROR(DATEDIF(C7,設定!$B$1,"YM"),0) | F7: =IFERROR(DATEDIF(C7,設定!$B$1,"M"),0) | G7: =VLOOKUP(F7,設定!$D$2:$E$22,2,TRUE) | H7: 0 | I7: =G7-H7
A8: EMP007 | B8: 劉詩涵 | C8: 46122 | D8: =IFERROR(DATEDIF(C8,設定!$B$1,"Y"),0) | E8: =IFERROR(DATEDIF(C8,設定!$B$1,"YM"),0) | F8: =IFERROR(DATEDIF(C8,設定!$B$1,"M"),0) | G8: =VLOOKUP(F8,設定!$D$2:$E$22,2,TRUE) | H8: 0 | I8: =G8-H8
A9: EMP008 | B9: 蔡柏宇 | C9: 46193 | D9: =IFERROR(DATEDIF(C9,設定!$B$1,"Y"),0) | E9: =IFERROR(DATEDIF(C9,設定!$B$1,"YM"),0) | F9: =IFERROR(DATEDIF(C9,設定!$B$1,"M"),0) | G9: =VLOOKUP(F9,設定!$D$2:$E$22,2,TRUE) | H9: 0 | I9: =G9-H9

Sheet 設定
A1: 設定項目 | B1: 設定值 | C1: 空白 | D1: 滿月數 | E1: 特休天數
A2: 結算基準日 | B2: 46318 | D2: 0 | E2: 0
D3: 6 | E3: 3
D4: 12 | E4: 7
D5: 24 | E5: 10
D6: 36 | E6: 14
D7: 60 | E7: 15
D8: 120 | E8: 16
D9: 132 | E9: 17
D10: 144 | E10: 18
D11: 156 | E11: 19
D12: 168 | E12: 20
D13: 180 | E13: 21
D14: 192 | E14: 22
... D22: 288 | E22: 30

Sheet 說明
A1: 就是教不落 steachs.com 免費範本
A2: 淡黃色格子是公式，會自動計算；範例資料可以直接刪除改成自己的內容。
