Workbook

Sheet 名單與亂數
A1: 抽獎序號 | B1: 參與者姓名 | C1: 亂數 | D1: 部門
A2: =_xlfn.RANK.EQ(C2, $C$2:$C$16) | B2: 陳怡君 | C2: =RAND() | D2: 業務部
A3: =_xlfn.RANK.EQ(C3, $C$2:$C$16) | B3: 林志明 | C3: =RAND() | D3: 行銷部
A4: =_xlfn.RANK.EQ(C4, $C$2:$C$16) | B4: 張家豪 | C4: =RAND() | D4: 資訊部
A5: =_xlfn.RANK.EQ(C5, $C$2:$C$16) | B5: 王雅婷 | C5: =RAND() | D5: 人資部
A6: =_xlfn.RANK.EQ(C6, $C$2:$C$16) | B6: 李建國 | C6: =RAND() | D6: 財務部
A7: =_xlfn.RANK.EQ(C7, $C$2:$C$16) | B7: 吳淑芬 | C7: =RAND() | D7: 業務部
A8: =_xlfn.RANK.EQ(C8, $C$2:$C$16) | B8: 蔡宗翰 | C8: =RAND() | D8: 研發部
A9: =_xlfn.RANK.EQ(C9, $C$2:$C$16) | B9: 劉冠宇 | C9: =RAND() | D9: 行銷部
A10: =_xlfn.RANK.EQ(C10, $C$2:$C$16) | B10: 楊佳穎 | C10: =RAND() | D10: 資訊部
A11: =_xlfn.RANK.EQ(C11, $C$2:$C$16) | B11: 許哲瑋 | C11: =RAND() | D11: 研發部
A12: =_xlfn.RANK.EQ(C12, $C$2:$C$16) | B12: 鄭宇軒 | C12: =RAND() | D12: 業務部
A13: =_xlfn.RANK.EQ(C13, $C$2:$C$16) | B13: 謝佳玲 | C13: =RAND() | D13: 人資部
... A16: =_xlfn.RANK.EQ(C16, $C$2:$C$16) | B16: 邱柏翰 | C16: =RAND() | D16: 資訊部

Sheet 中獎名單
A1: 獎項 | B1: 抽出順序 | C1: 中獎人姓名 | D1: 中獎人部門
A2: 頭獎 | B2: 1 | C2: =IFERROR(VLOOKUP(B2, 名單與亂數!$A$2:$D$16, 2, FALSE), "") | D2: =IFERROR(VLOOKUP(B2, 名單與亂數!$A$2:$D$16, 4, FALSE), "")
A3: 貳獎 | B3: 2 | C3: =IFERROR(VLOOKUP(B3, 名單與亂數!$A$2:$D$16, 2, FALSE), "") | D3: =IFERROR(VLOOKUP(B3, 名單與亂數!$A$2:$D$16, 4, FALSE), "")
A4: 參獎 | B4: 3 | C4: =IFERROR(VLOOKUP(B4, 名單與亂數!$A$2:$D$16, 2, FALSE), "") | D4: =IFERROR(VLOOKUP(B4, 名單與亂數!$A$2:$D$16, 4, FALSE), "")
A5: 普獎 | B5: 4 | C5: =IFERROR(VLOOKUP(B5, 名單與亂數!$A$2:$D$16, 2, FALSE), "") | D5: =IFERROR(VLOOKUP(B5, 名單與亂數!$A$2:$D$16, 4, FALSE), "")
A6: 普獎 | B6: 5 | C6: =IFERROR(VLOOKUP(B6, 名單與亂數!$A$2:$D$16, 2, FALSE), "") | D6: =IFERROR(VLOOKUP(B6, 名單與亂數!$A$2:$D$16, 4, FALSE), "")
A7: 普獎 | B7: 6 | C7: =IFERROR(VLOOKUP(B7, 名單與亂數!$A$2:$D$16, 2, FALSE), "") | D7: =IFERROR(VLOOKUP(B7, 名單與亂數!$A$2:$D$16, 4, FALSE), "")
A8: 普獎 | B8: 7 | C8: =IFERROR(VLOOKUP(B8, 名單與亂數!$A$2:$D$16, 2, FALSE), "") | D8: =IFERROR(VLOOKUP(B8, 名單與亂數!$A$2:$D$16, 4, FALSE), "")
A9: 普獎 | B9: 8 | C9: =IFERROR(VLOOKUP(B9, 名單與亂數!$A$2:$D$16, 2, FALSE), "") | D9: =IFERROR(VLOOKUP(B9, 名單與亂數!$A$2:$D$16, 4, FALSE), "")

Sheet 說明
A1: 就是教不落 steachs.com 免費範本
A2: 淡黃色格子是公式，會自動計算；範例資料可以直接刪除改成自己的內容。
