Workbook

Sheet 出勤紀錄表
A1: 日期 | B1: 姓名 | C1: 上班打卡 | D1: 下班打卡 | E1: 休息時數 | F1: 總工時 | G1: 標準工時 | H1: 加班時數 | I1: 備註
A2: 46296 | B2: 陳怡君 | C2: 0.37152778 | D2: 0.75347222 | E2: 1 | F2: =IF(OR(C2="",D2=""),0,MOD(D2-C2,1)*24-E2) | G2: 8 | H2: =IF(F2>G2,F2-G2,0) | I2: 正常出勤
A3: 46296 | B3: 王小明 | C3: 0.375 | D3: 0.8125 | E3: 1 | F3: =IF(OR(C3="",D3=""),0,MOD(D3-C3,1)*24-E3) | G3: 8 | H3: =IF(F3>G3,F3-G3,0) | I3: 加班
A4: 46297 | B4: 陳怡君 | C4: 0.36805556 | D4: 0.75 | E4: 1 | F4: =IF(OR(C4="",D4=""),0,MOD(D4-C4,1)*24-E4) | G4: 8 | H4: =IF(F4>G4,F4-G4,0)
A5: 46297 | B5: 王小明 | C5: 0.37847222 | D5: 0.75347222 | E5: 1 | F5: =IF(OR(C5="",D5=""),0,MOD(D5-C5,1)*24-E5) | G5: 8 | H5: =IF(F5>G5,F5-G5,0) | I5: 遲到5分鐘
A6: 46300 | B6: 陳怡君 | C6: 0.37361111 | D6: 0.75138889 | E6: 1 | F6: =IF(OR(C6="",D6=""),0,MOD(D6-C6,1)*24-E6) | G6: 8 | H6: =IF(F6>G6,F6-G6,0)
A7: 46300 | B7: 王小明 | C7: 0.37152778 | D7: 0.83333333 | E7: 1 | F7: =IF(OR(C7="",D7=""),0,MOD(D7-C7,1)*24-E7) | G7: 8 | H7: =IF(F7>G7,F7-G7,0) | I7: 加班
A8: 46301 | B8: 陳怡君 | C8: 0.36805556 | D8: 0.75694444 | E8: 1 | F8: =IF(OR(C8="",D8=""),0,MOD(D8-C8,1)*24-E8) | G8: 8 | H8: =IF(F8>G8,F8-G8,0)
A9: 46301 | B9: 王小明 | C9: 0.375 | D9: 0.75 | E9: 1 | F9: =IF(OR(C9="",D9=""),0,MOD(D9-C9,1)*24-E9) | G9: 8 | H9: =IF(F9>G9,F9-G9,0)
A10: 46302 | B10: 陳怡君 | C10: 0.37152778 | D10: 0.70833333 | E10: 1 | F10: =IF(OR(C10="",D10=""),0,MOD(D10-C10,1)*24-E10) | G10: 8 | H10: =IF(F10>G10,F10-G10,0) | I10: 請假1小時
A11: 46302 | B11: 王小明 | C11: 0.36805556 | D11: 0.75 | E11: 1 | F11: =IF(OR(C11="",D11=""),0,MOD(D11-C11,1)*24-E11) | G11: 8 | H11: =IF(F11>G11,F11-G11,0)
A12: 合計 | F12: =SUM(F2:F11) | H12: =SUM(H2:H11)

Sheet 員工時數統計
A1: 姓名 | B1: 總出勤天數 | C1: 總工時 | D1: 總加班時數
A2: 陳怡君 | B2: =COUNTIFS(出勤紀錄表!B$2:B$11,A2,出勤紀錄表!C$2:C$11,"<>") | C2: =SUMIF(出勤紀錄表!B$2:B$11,A2,出勤紀錄表!F$2:F$11) | D2: =SUMIF(出勤紀錄表!B$2:B$11,A2,出勤紀錄表!H$2:H$11)
A3: 王小明 | B3: =COUNTIFS(出勤紀錄表!B$2:B$11,A3,出勤紀錄表!C$2:C$11,"<>") | C3: =SUMIF(出勤紀錄表!B$2:B$11,A3,出勤紀錄表!F$2:F$11) | D3: =SUMIF(出勤紀錄表!B$2:B$11,A3,出勤紀錄表!H$2:H$11)

Sheet 說明
A1: 就是教不落 steachs.com 免費範本
A2: 淡黃色格子是公式，會自動計算；範例資料可以直接刪除改成自己的內容。
